Workbook

Sheet Info  
A1: Finland | E1: INFO
A2: Item information profile
A3: ID | B3: Module | C3: GDSN Name | D3: Attribute name English | E3: Attribute name Finnish | F3: Format | G3: Codelist | H3: Lenght | I3: Applicability | J3: Applicable Level | K3: Consumer Unit Information | L3: Cardinality | M3: Xpath | N3: FI Repeatability on Attribute level | O3: Repeatability on Attribute group(s) level | P3: Groups | Q3: Globality Status | R3: Validation rules | S3: Dependencies | T3: Include GPC | U3: Exclude GPC | V3: Cosmetic information | W3: Packaging Unit information | X3: DW | Y3: BMS Id | Z3: GDM Food | AA3: GDM Near Food | AB3: GDM Tobacco | AC3: GDM Alcohol | AD3: Attribute name Swedish | AE3: Started | AF3: Last Changed | AG3: Last update notification
A4: Finland's own ID number. | B4: Define which module the attribute belongs to in the gdsn standard | C4: The gdd name of the attribute, this name is displayed with messages | D4: The name of the attribute that appears in the user interface | E4: Attribute name in Finnish | F4: description = free text Codelist = the given value is selected from the values in the code list. Note part of the code list is restricted so that not all values are available Numeric = the value to be given is given as integer numbers Boolean = only yes or | G4: Defines the name of the code list and acts as a hyperlink to the code list in the file | H4: Defines the maximum number of characters in the text field | I4: Defines the mandatory information at different levels of the packaging hierarchy | J4: Defines to which levels of the package hierarchy information can be given | K4: Is this information intended for consumers | L4: Defines whether the data can be repeated | M4: Defines what the xPath of the attribute is in the xml message. | N4: Defines whether the attribute can be repeated | O4: Defines whether the attribute can be repeated in the group | P4: The name of the group | Q4: Defines whether the information is always the same for all recipients or whether it can be changed | R4: Defines which validation rules apply to the attribute | S4: Defines which dependencies the attribute has through validations. | T4: Defines which of the GPC classifications apply to that attribute. Providing information varies by product group | U4: Defines through the GPC classification which product groups the attribute does not apply to. | V4: Defines whether the attribute is part of the cosmetics data model or not. | W4: Defines if the attribute is part of the information given to packages | Y4: Global ID number | Z4: Does the attribute belong to the GDM (Global Data Model) data model for food. | AA4: Does the attribute belong to the GDM (Global Data Model) data model for Near-food | AB4: Does the attribute belong to the GDM (Global Data Model) data model for tobacco. | AC4: Does the attribute belong to the GDM (Global Data Model) data model for alcohol. | AD4: Attribute name in Swedish | AE4: Define when the attribute has been added to the Finnish data model. The information is provided with an release number. | AF4: Define when the attribute was last edited in the Finnish data model. The information is provided with an release number. | AG4: Tells what changes have been made to the attribute in the Finnish data model.
F5: Description = free text Codelist = the given value is selected from the values in the code list. Note part of the code list is limited so that not all values are available. Numeric = the value to be given is given as integer numbers datetime = the given value is date and time decimal = the value to be given is decimal value, note, no decimal place is specified Boolean = only yes or no values are allowed | G5: External codelist means that there is no codelist for this in the file. The values to be used can be found, for example, in the legislation that applies to the attribute in question. | I5: M = Mandatory CM = Conditionally mandatory Optional First place is Base unit information Second place is Case unit information Third place is Pallet information | J5: All = For all levels of the package hierarchy BaseUnit = only for Base unit HigherPackageLevel = All other levels (case and pallet) of the package hierarchy except base unit NonPallet = All other levels (base and case) of the package hierarchy except pallet | L5: 0..* = The information is not mandatory and can be repeated. No limited number of repetitions. 0..1 = The information is not mandatory and can be provided once 1..* = The information is mandatory and the number of repetitions is not limited. 1..1 = The information is mandatory and can be provided once | Q5: Global = The information is the same for all target markets and recipients TargetMarketDependent = The information can be given differently to different target markets. Within the target market, the information is the same for all recipients. TradingMarketDependent = The information can be given in a different way to different recipients | R5: Validations starting with G are gdsn global validations. Validations starting with numbers are Finnish local validations. | Z5: Global = information is given in all markets Regional = information belongs to the European information model Local = information is country-specific information | AA5: Near-Food = everyday items, e.g. toothpaste, toilet paper

Sheet Attribuutit
A1: Finland | D1: Version 3.1.37
A2: Item information profile
A3: Synkka ID | B3: BMS Id | C3: Module | D3: GDSN Name | E3: Attribute name English | F3: Attribute name Finnish | G3: Format | H3: Codelist | I3: Lenght | J3: Applicability | K3: Applicable Level | L3: Consumer Unit Information | M3: Cardinality | N3: Xpath | O3: FI Repeatability on Attribute level | P3: Repeatability on Attribute group(s) level | Q3: Groups | R3: Globality Status | S3: Dependencies | T3: Include GPC | U3: Exclude GPC | V3: Cosmetic information | W3: Packaging Unit information | X3: BMS Id | Y3: GDM Food | Z3: GDM Near Food | AA3: GDM Tobacco | AB3: GDM Alcohol | AC3: Attribute name Swedish | AD3: Started | AE3: Last Changed | AF3: Changes
A4: 0 | B4: 349 | C4: AlcoholInformationModule | D4: AlcoholicBeverageSubregion | E4: Alcoholic Beverage Subregion | F4: Ala-alue | G4: Description | I4: 200 | J4: O - - | K4: BaseUnit | L4: X | M4: 0..1 | N4: alcoholInformationModule/alcoholInformation/alcoholicBeverageSubregion | O4: No | R4: TargetMarketDependent | V4: no | X4: 349 | Y4: - | AC4: Delregion | AD4: 3.1.x
A5: 2 | B5: 351 | C5: AlcoholInformationModule | D5: DegreeOfOriginalWort | E5: Degree Of Original Wort | F5: Kantavierteen aste | G5: numeric | J5: O - - | K5: BaseUnit | L5: X | M5: 0..1 | N5: alcoholInformationModule/alcoholInformation/degreeOfOriginalWort | O5: No | R5: TargetMarketDependent | V5: no | X5: 351 | Y5: - | AC5: Grad av orginal vört | AD5: 3.1.x
A6: 3 | B6: 352 | C6: AlcoholInformationModule | D6: PercentageOfAlcoholByVolume | E6: Percentage Of Alcohol By Volume | F6: Alkoholiprosentti | G6: numeric | J6: CM - - | K6: BaseUnit | L6: X | M6: 0..1 | N6: alcoholInformationModule/alcoholInformation/percentageOfAlcoholByVolume | O6: No | R6: TargetMarketDependent | S6: If the Trade Item is a Base Unit, then Percentage of Alcohol by Volume shall be used in this target market. (AddedGPCs: 50202200, RemovedGPCs: 10000142,10000143) | V6: no | X6: 352 | Y6: Global | AC6: Alkoholhalt, volymprocent | AD6: 3.1.x
A7: 4 | B7: 353 | C7: AlcoholInformationModule | D7: Vintner | E7: Vintner | F7: Viinin valmistaja | G7: Description | I7: 200 | J7: O - - | K7: BaseUnit | L7: X | M7: 0..* | N7: alcoholInformationModule/alcoholInformation/vintner | O7: Yes | R7: Global | V7: no | X7: 353 | Y7: - | AC7: Vintner | AD7: 3.1.x
A8: 20 | B8: 375 | C8: AllergenInformationModule | D8: AllergenTypeCode | E8: Allergen Type | F8: Allergeeni | G8: codelist | H8: AllergenTypeCodeList | J8: CM - - | K8: BaseUnit | L8: X | M8: 1..1 | N8: allergenInformationModule/allergenRelatedInformation/allergen/allergenTypeCode | O8: No | P8: Yes | Q8: AllergenRelatedInformation/Allergen | R8: TargetMarketDependent | S8: Must be filled if LevelOFContainment (21) has been given. | V8: yes | X8: 375 | Y8: Global | AC8: Allergentyp kod | AD8: 3.1.x | AE8: 3.1.32 | AF8: 3.1.32 Added new codes 3.1.31 Remove codes from TM FI 3.1.28 New codes added 3.1.27 Code value X99 removed 3.1.23 Code values SQ and AW removed 3.1.22 New codes added
A9: 21 | B9: 376 | C9: AllergenInformationModule | D9: LevelOfContainmentCode | E9: Level of Containment | F9: Kontaminaatioaste | G9: codelist | H9: LevelOfContainmentCode | J9: CM - - | K9: BaseUnit | L9: X | M9: 1..1 | N9: allergenInformationModule/allergenRelatedInformation/allergen/levelOfContainmentCode | O9: No | P9: Yes | Q9: AllergenRelatedInformation/Allergen | R9: TargetMarketDependent | S9: Must be filled if AllergenTypeCode (20) has been given. | V9: yes | X9: 376 | Y9: Global | AC9: Innehållsnivå kod | AD9: 3.1.x
A10: 72 | B10: 478 | C10: AudienceOrPlayerInformationModule | D10: MaximumNumberOfPlayers | E10: Maximum Number Of Players | F10: Pelaajien enimmäismäärä | G10: numeric | J10: O - - | K10: BaseUnit | L10: X | M10: 0..1 | N10: audienceOrPlayerInformationModule/audienceOrPlayerInformation/maximumNumberOfPlayers | O10: No | R10: TargetMarketDependent | V10: no | X10: 478 | Y10: - | AC10: Maximalt antal spelare | AD10: 3.1.x
A11: 74 | B11: 480 | C11: AudienceOrPlayerInformationModule | D11: MinimumNumberOfPlayers | E11: Minimum Number Of Players | F11: Pelaajien vähimmäismäärä | G11: numeric | J11: O - - | K11: BaseUnit | L11: X | M11: 0..1 | N11: audienceOrPlayerInformationModule/audienceOrPlayerInformation/minimumNumberOfPlayers | O11: No | R11: TargetMarketDependent | V11: no | X11: 480 | Y11: - | AC11: Manimum antal spelare | AD11: 3.1.x
A12: 210 | B12: 600 | C12: BatteryInformationModule | D12: AreBatteriesIncluded | E12: Are Batteries Included | F12: Paristot mukana pakkauksessa | G12: boolean | J12: CM - - | K12: BaseUnit | L12: X | M12: 0..1 | N12: batteryInformationModule/areBatteriesIncluded | O12: No | R12: TargetMarketDependent | S12: If the attribute areBatteriesRequired = TRUE, then areBatteriesIncluded must also be indicated in each iteration of the class. Battery Weight' (215) CAN ONLY be specified, WHEN 'Are Batteries Included' (210) = TRUE | V12: no | X12: 600 | Y12: - | AC12: Ingår batterier | AD12: 3.1.x
A13: 211 | B13: 601 | C13: BatteryInformationModule | D13: AreBatteriesRequired | E13: Are Batteries Required | F13: Paristokäyttöinen | G13: boolean | J13: CM - - | K13: BaseUnit | L13: X | M13: 0..1 | N13: batteryInformationModule/areBatteriesRequired | O13: No | R13: TargetMarketDependent | S13: Battery Technology Type Code' (213) CAN ONLY be speficied, WHEN 'Are Batteries Required' (211) = TRUE Battery Type' (214) CAN ONLY be specified, WHEN 'Are Batteries Required' (211) = TRUE Quantity of Batteries Required' (219) CAN ONLY be specified, WHEN 'Are Batteries Required' (211) = TRUE | V13: no | X13: 601 | Y13: - | AC13: Krävs batterier | AD13: 3.1.x
A14: 212 | B14: 612 | C14: BatteryInformationModule | D14: AreBatteriesBuiltIn | E14: Are Batteries Built In | F14: Sisäänrakennettu paristo | G14: codelist | H14: NonBinaryLogicEnumerationCodeList | J14: CM - - | K14: BaseUnit | L14: X | M14: 0..1 | N14: batteryInformationModule/batteryDetail/areBatteriesBuiltIn | O14: No | P14: Yes | Q14: BatteryDetail | R14: TargetMarketDependent | S14: For each iteration of BatteryInformationModule_BatteryDetailGroup (229) the attribute 'Are Batteries Built in' (212) must be set Quantity of Batteries Built In' (218) CAN ONLY be specified, WHEN 'Are Batteries Built In' (212) = TRUE | V14: no | X14: 612 | Y14: - | AC14: Finns inbyggda batterier | AD14: 3.1.x
A15: 213 | B15: 613 | C15: BatteryInformationModule | D15: BatteryTechnologyTypeCode | E15: Battery Technology Type Code | F15: Paristossa käytetty teknologia | G15: codelist | H15: BatteryTechnologyTypeCodeList | J15: CO - - | K15: BaseUnit | L15: X | M15: 0..* | N15: batteryInformationModule/batteryDetail/batteryTechnologyTypeCode | O15: Yes | P15: Yes | Q15: BatteryDetail | R15: TargetMarketDependent | S15: Battery Technology Type Code' (213) CAN ONLY be speficied, WHEN 'Are Batteries Required' (211) = TRUE | V15: no | X15: 613 | Y15: - | AC15: Batteriteknik kod | AD15: 3.1.x | AE15: 3.1.15 | AF15: New codes added.
A16: 214 | B16: 614 | C16: BatteryInformationModule | D16: BatteryTypeCode | E16: Battery Type Code | F16: Pariston tyyppi | G16: codelist | H16: BatteryTypeCodeList | J16: CO - - | K16: BaseUnit | L16: X | M16: 0..1 | N16: batteryInformationModule/batteryDetail/batteryTypeCode | O16: No | P16: Yes | Q16: BatteryDetail | R16: TargetMarketDependent | S16: Battery Type' (214) CAN ONLY be specified, WHEN 'Are Batteries Required' (211) = TRUE | V16: no | X16: 614 | Y16: - | AC16: Batterityp kod | AD16: 3.1.x | AE16: 3.1.36 | AF16: 3.1.36 New codes added 3.1.33 New code added 3.1.32 New codes added 3.1.26 New code added 3.1.18 New codes added.
A17: 215 | B17: 615 | C17: BatteryInformationModule | D17: BatteryWeight | E17: Battery Weight | F17: Pariston paino | G17: numeric | H17: MeasurementUnitCodeList | J17: CO - - | K17: BaseUnit | L17: X | M17: 0..1 | N17: batteryInformationModule/batteryDetail/batteryWeight | O17: No | P17: Yes | Q17: BatteryDetail | R17: TargetMarketDependent | S17: Battery Weight' (215) CAN ONLY be specified, WHEN 'Are Batteries Included' (210) = TRUE | V17: no | X17: 615 | Y17: - | AC17: Batterivikt värde | AD17: 3.1.x
A18: 218 | B18: 617 | C18: BatteryInformationModule | D18: QuantityOfBatteriesBuiltIn | E18: Quantity Of Batteries Built In | F18: Sisäänrakennettujen paristojen lukumäärä | G18: numeric | J18: O - - | K18: BaseUnit | L18: X | M18: 0..1 | N18: batteryInformationModule/batteryDetail/quantityOfBatteriesBuiltIn | O18: No | P18: Yes | Q18: BatteryDetail | R18: TargetMarketDependent | V18: no | X18: 617 | Y18: - | AC18: Antal batterier som krävs | AD18: 3.1.x
A19: 219 | B19: 618 | C19: BatteryInformationModule | D19: QuantityOfBatteriesRequired | E19: Quantity Of Batteries Required | F19: Paristojen määrä | G19: numeric | J19: CO - - | K19: BaseUnit | L19: X | M19: 0..1 | N19: batteryInformationModule/batteryDetail/quantityOfBatteriesRequired | O19: No | P19: Yes | Q19: BatteryDetail | R19: TargetMarketDependent | S19: Quantity of Batteries Required' (219) CAN ONLY be specified, WHEN 'Are Batteries Required' (211) = TRUE | V19: no | X19: 618 | Y19: - | AC19: Antal inbyggda batterier | AD19: 3.1.x
A20: 243 | B20: 665 | C20: CertificationInformationModule | D20: CertificationAgency | E20: Certification Agency | F20: Sertifioinnin myöntäjä | G20: Description | J20: CM CM CM | K20: BaseUnit | L20: X | M20: 0..1 | N20: certificationInformationModule/certificationInformation/certificationAgency | O20: No | P20: Yes | Q20: CertificationInformation | R20: TargetMarketDependent | V20: yes | X20: 665 | Y20: - | AC20: Certifieringsbyrå | AD20: 3.1.x | AE20: 3.1.31 | AF20: 3.1.31 Applicability updated. Was: CM - - 3.1.21 Fixed datatype to description
A21: 245 | B21: 667 | C21: CertificationInformationModule | D21: CertificationStandard | E21: Certification Standard | F21: Sertifioinnin kohde | G21: codelist | H21: FI_CertificationStandard | J21: CM CM CM | K21: BaseUnit | L21: X | M21: 0..1 | N21: certificationInformationModule/certificationInformation/certificationStandard | O21: No | P21: Yes | Q21: CertificationInformation | R21: TargetMarketDependent | V21: yes | X21: 667 | Y21: - | AC21: Objekt för certifiering | AD21: 3.1.x | AE21: 3.1.31 | AF21: 3.1.31 Applicability updated. Was: CM - - 3.1.29 change datatype and Finnish name, was: Sertifikaatti, added code list 3.1.21 Fixed datatype to description
A22: 253 | B22: 684 | C22: CertificationInformationModule | D22: CertificationIdentification | E22: Certification identification | F22: Sertifioinnin tunniste | G22: codelist | H22: FI_CertificationIdentification | J22: CM CM CM | K22: BaseUnit | M22: 0..1 | O22: No | P22: Yes | Q22: CertificationInformation | R22: TargetMarketDependent | V22: yes | X22: 684 | AC22: Certifieringsidentifierare | AD22: 3.1.29 | AE22: 3.1.31 | AF22: '3.1.31 Applicability updated. Was: CM - -
A23: 246 | B23: 685 | C23: CertificationInformationModule | D23: CertificationValue | E23: Certification Value | F23: Sertifikaatin tunnus (id) | G23: Description | I23: 200 | J23: O O O | K23: BaseUnit | L23: X | M23: 1..1 | N23: certificationInformationModule/certificationInformation/certification/certificationValue | O23: No | P23: Yes | Q23: CertificationInformation/Certification | R23: TargetMarketDependent | V23: yes | X23: 685 | Y23: Global | AC23: Certifieringsvärde | AD23: 3.1.x | AE23: 3.1.31 | AF23: 3.1.31 Applicability updated. Was: O - - 3.1.23 Change Finnish name. Was: Sertifioinnin arvo
A24: 352 | B24: 789 | C24: ConsumerInstructionsModule | D24: ConsumerStorageInstructions | E24: Consumer Storage Instructions | F24: Säilytysohje | G24: Description | H24: LanguageCodeList | I24: 5000 | J24: O O - | K24: NonPallet | L24: X | M24: 0..* | N24: consumerInstructionsModule/consumerInstructions/consumerStorageInstructions | O24: Yes | R24: TargetMarketDependent | V24: yes | X24: 789 | Y24: Global | AC24: Förvaringsinstruktioner för konsument | AD24: 3.1.x
A25: 356 | B25: 791 | C25: ConsumerInstructionsModule | D25: ConsumerUsageInstructions | E25: Consumer Usage Instructions | F25: Käyttöohje kuluttajalle | G25: Description | H25: LanguageCodeList | I25: 5000 | J25: O O - | K25: NonPallet | L25: X | M25: 0..* | N25: consumerInstructionsModule/consumerInstructions/consumerUsageInstructions | O25: Yes | R25: TargetMarketDependent | V25: yes | X25: 791 | Y25: Global | AC25: Användningsinstruktioner för konsument | AD25: 3.1.x
A26: 435 | B26: 879 | C26: DairyFishMeatPoultryItemModule | D26: FatInMilkContent | E26: Fat In Milk Content | F26: Maidon rasvapitoisuus prosentteina | G26: numeric | J26: O - - | K26: BaseUnit | L26: X | M26: 0..1 | N26: dairyFishMeatPoultryItemModule/dairyFishMeatPoultryInformation/fatInMilkContent | O26: No | R26: TargetMarketDependent | V26: no | X26: 879 | Y26: Local | AC26: Fett i mjölkinnehåll | AD26: 3.1.x
A27: 436 | B27: 880 | C27: DairyFishMeatPoultryItemModule | D27: IsHomogenised | E27: Is Homogenised | F27: Homogenoitu | G27: codelist | H27: NonBinaryLogicEnumerationCodeList | J27: O - - | K27: BaseUnit | L27: X | M27: 0..1 | N27: dairyFishMeatPoultryItemModule/dairyFishMeatPoultryInformation/isHomogenised | O27: No | R27: TargetMarketDependent | V27: no | X27: 880 | Y27: Local | AC27: Är homogeniserad | AD27: 3.1.x | AE27: 3.1.19 | AF27: Finnish name changed. Was Onko homogenoitu
A28: 441 | B28: 893 | C28: DairyFishMeatPoultryItemModule | D28: FatPercentageInDryMatter | E28: Fat Percentage In Dry Matter | F28: Kuiva-aineen rasvapitoisuus prosentteina | G28: numeric | J28: CM - - | K28: BaseUnit | L28: X | M28: 0..1 | N28: dairyFishMeatPoultryItemModule/dairyFishMeatPoultryInformation/cheeseInformation/fatPercentageInDryMatter | O28: No | R28: TargetMarketDependent | S28: If tradeItemUnitDescriptorCode = BASE_UNIT_OR_EACH and the chosen GPC Brick Code = 10000028 or 10000029 or 10000030, then the attribute DairyFishMeatPoultryItemModule_FatPercentageInDryMatter (441, dairyFishMeatPoultryItemModule/dairyFishMeatPoultryInformation/cheeseInformation/fatPercentageInDryMatter) must be indicated. | V28: no | X28: 893 | Y28: Local | AC28: Fettprocent i torrt material | AD28: 3.1.x
A29: 448 | B29: 902 | C29: DairyFishMeatPoultryItemModule | D29: FishMeatPoultryTypeCodeReferenceCodeReference | E29: Fish Meat Poultry Type Code | F29: Liha- tai kalapitoisuuden tyyppi | G29: Description | H29: FI_FishMeatPoultryTypeCodeReference | I29: 80 | J29: CM - - | K29: BaseUnit | L29: X | M29: 1..1 | N29: dairyFishMeatPoultryItemModule/dairyFishMeatPoultryInformation/fishMeatPoultryContent/fishMeatPoultryTypeCodeReference | O29: No | P29: Yes | Q29: FishMeatPoultryContent | R29: TargetMarketDependent | V29: no | X29: 902 | Y29: Local | AC29: Typkod av fisk, kött, fjäderfä | AD29: 3.1.x
A30: 456 | B30: 900 | C30: DairyFishMeatPoultryItemModule | D30: MinimumFishMeatPoultryContent | E30: Minimum Fish Meat Poultry Content | F30: Liha- tai kalapitoisuus vähintään | G30: numeric | H30: MeasurementUnitCodeList | J30: CM - - | K30: BaseUnit | L30: X | M30: 1..* | N30: dairyFishMeatPoultryItemModule/dairyFishMeatPoultryInformation/fishMeatPoultryContent/minimumFishMeatPoultryContent | O30: Yes | P30: Yes | Q30: FishMeatPoultryContent | R30: TargetMarketDependent | V30: no | X30: 900 | Y30: Local | AC30: Minsta fisk- eller köttinnehåll | AD30: 3.1.x
A31: 472 | B31: 933 | C31: DangerousSubstanceInformationModule | D31: DangerousSubstanceGasDensity | E31: Dangerous Substance Gas Density | F31: Vaarallisen valmisteen kaasun tiheys | G31: numeric | H31: MeasurementUnitCodeList | J31: O - - | K31: BaseUnit | L31: X | M31: 0..1 | N31: dangerousSubstanceInformationModule/dangerousSubstanceInformation/dangerousSubstanceProperties/dangerousSubstanceGasDensity | O31: No | P31: Yes | Q31: DangerousSubstanceInformation/DangerousSubstanceProperties | R31: TargetMarketDependent | S31: Dangerous Substance Gas Density' (472) CAN ONLY be specified, WHEN 'Is Dangerous Substance' (483) = TRUE | V31: yes | X31: 933 | Y31: - | AC31: Farligt ämne gasdensitet | AD31: 3.1.x
A32: 478 | B32: 935 | C32: DangerousSubstanceInformationModule | D32: DangerousSubstanceName | E32: Dangerous Substance Name | F32: Vaarallisen ainesosan nimi | G32: Description | I32: 70 | J32: O - - | K32: BaseUnit | L32: X | M32: 0..1 | N32: dangerousSubstanceInformationModule/dangerousSubstanceInformation/dangerousSubstanceProperties/dangerousSubstanceName | O32: No | P32: Yes | Q32: DangerousSubstanceInformation/DangerousSubstanceProperties | R32: TargetMarketDependent | S32: Dangerous Substance Name' (478) CAN ONLY be specifed, WHEN 'Is Dangerous Substance' (483) = TRUE | V32: yes | X32: 935 | Y32: - | AC32: Namn på farligt ämne | AD32: 3.1.x
A33: 479 | B33: 936 | C33: DangerousSubstanceInformationModule | D33: PhaseOfMatterCode | E33: Phase Of Matter Code | F33: Aineen olomuoto | G33: codelist | H33: PhaseOfMatterCodeList | J33: O - - | K33: BaseUnit | L33: X | M33: 0..1 | N33: dangerousSubstanceInformationModule/dangerousSubstanceInformation/dangerousSubstanceProperties/dangerousSubstancePhaseOfMatterCode | O33: No | P33: Yes | Q33: DangerousSubstanceInformation/DangerousSubstanceProperties | R33: TargetMarketDependent | V33: yes | X33: 936 | Y33: - | AC33: Materiens tillstånd kod | AD33: 3.1.x
A34: 480 | B34: 5831 | C34: DangerousSubstanceInformationModule | D34: DangerousSubstancesWaterSolubilityCode | E34: Dangerous Substances Water Solubility Code | F34: Vaarallisen valmisteen vesiliukoisuus | G34: codelist | H34: DangerousSubstancesWaterSolubilityCodeList | J34: O - - | K34: BaseUnit | L34: X | M34: 0..1 | N34: dangerousSubstanceInformationModule/dangerousSubstanceInformation/dangerousSubstanceProperties/dangerousSubstancesWaterSolubilityCode | O34: No | P34: Yes | Q34: DangerousSubstanceInformation/DangerousSubstanceProperties | R34: TargetMarketDependent | S34: Dangerous Substances Water Solubility Code' (480) CAN ONLY be specified, WHEN 'Is Dangerous Substance' (483) = TRUE | V34: yes | X34: 5831 | Y34: - | AC34: Farliga ämnen vattenlöslighetskod | AD34: 3.1.x
A35: 481 | B35: 938 | C35: DangerousSubstanceInformationModule | D35: FlammableSubstanceMaximumPercent | E35: Flammable Substance Maximum Percent | F35: Palavan aineen maksimimäärä prosentteina | G35: numeric | J35: CM - - | K35: BaseUnit | L35: X | M35: 0..1 | N35: dangerousSubstanceInformationModule/dangerousSubstanceInformation/dangerousSubstanceProperties/flammableSubstanceMaximumPercent | O35: No | P35: Yes | Q35: DangerousSubstanceInformation/DangerousSubstanceProperties | R35: TargetMarketDependent | S35: If 'Dangerous Substance Name' (478) is given, 'Flammable Substance Maximum Percent' (481) MUST be given | V35: yes | X35: 938 | Y35: - | AC35: Brandfarligt ämne maximal procent | AD35: 3.1.x
A36: 482 | B36: 939 | C36: DangerousSubstanceInformationModule | D36: FlammableSubstanceMinimumPercent | E36: Flammable Substance Minimum Percent | F36: Palavan aineen minimimäärä prosentteina | G36: numeric | J36: CM - - | K36: BaseUnit | L36: X | M36: 0..1 | N36: dangerousSubstanceInformationModule/dangerousSubstanceInformation/dangerousSubstanceProperties/flammableSubstanceMinimumPercent | O36: No | P36: Yes | Q36: DangerousSubstanceInformation/DangerousSubstanceProperties | R36: TargetMarketDependent | S36: If 'Dangerous Substance Name' (478) is given, 'Flammable Substance Minimum Percent' (482) MUST be given | V36: yes | X36: 939 | Y36: - | AC36: Brandfarligt ämne minimum procent | AD36: 3.1.x
A37: 483 | B37: 940 | C37: DangerousSubstanceInformationModule | D37: IsDangerousSubstance | E37: Is Dangerous Substance | F37: Vaarallinen valmiste | G37: codelist | H37: NonBinaryLogicEnumerationCodeList | J37: M - - | K37: BaseUnit | L37: X | M37: 0..1 | N37: dangerousSubstanceInformationModule/dangerousSubstanceInformation/dangerousSubstanceProperties/isDangerousSubstance | O37: No | P37: Yes | Q37: DangerousSubstanceInformation/DangerousSubstanceProperties | R37: TargetMarketDependent | S37: Mandatory attribute: 'Is Dangerous Substance' (483) is missing. | V37: yes | X37: 940 | Y37: Local | AC37: Är farligt ämne | AD37: 3.1.x | AE37: 3.1.19 | AF37: Finnish name changed. Was Onko vaarallinen valmiste
A38: 484 | B38: 941 | C38: DangerousSubstanceInformationModule | D38: IsDangerousSubstanceAMixture | E38: Is Dangerous Substance A Mixture | F38: Onko vaarallinen valmiste sekoite | G38: codelist | H38: NonBinaryLogicEnumerationCodeList | J38: O - - | K38: BaseUnit | L38: X | M38: 0..1 | N38: dangerousSubstanceInformationModule/dangerousSubstanceInformation/dangerousSubstanceProperties/isDangerousSubstanceAMixture | O38: No | P38: Yes | Q38: DangerousSubstanceInformation/DangerousSubstanceProperties | R38: TargetMarketDependent | V38: yes | X38: 941 | Y38: - | AC38: Är farligt ämne en blandning | AD38: 3.1.x
A39: 531 | B39: 986 | C39: DangerousSubstanceInformationModule | D39: DangerousHazardousLabelNumber | E39: Dangerous Hazardous Label Number | F39: VAK lipuke | G39: codelist | H39: DangerousHazardousLabelNumberCodeList | J39: CM - - | K39: BaseUnit | L39: X | M39: 1..1 | N39: dangerousSubstanceInformationModule/dangerousSubstanceInformation/dangerousSubstanceProperties/dangerousHazardousLabel/dangerousHazardousLabelNumber | O39: No | P39: Yes | Q39: DangerousSubstanceInformation/DangerousSubstanceProperties/DangerousHazardousLabel | R39: TargetMarketDependent | V39: yes | X39: 986 | Y39: Local | AC39: Varningsetikett för farligt gods | AD39: 3.1.x
A40: 532 | B40: 987 | C40: DangerousSubstanceInformationModule | D40: DangerousHazardousLabelSequenceNumber | E40: Dangerous Hazardous Label Sequence Number | F40: VAK lipukkeen järjestysnumero | G40: numeric | J40: CM - - | K40: BaseUnit | L40: X | M40: 1..1 | N40: dangerousSubstanceInformationModule/dangerousSubstanceInformation/dangerousSubstanceProperties/dangerousHazardousLabel/dangerousHazardousLabelSequenceNumber | O40: No | P40: Yes | Q40: DangerousSubstanceInformation/DangerousSubstanceProperties/DangerousHazardousLabel | R40: TargetMarketDependent | V40: yes | X40: 987 | Y40: Local | AC40: Sekvensnummer för varningsetikett | AD40: 3.1.x
...

Sheet Definitions and instructions
B1: Määrittelyt ja ohjeet | D1: Definitions and instructions | E1: Back to the Attributes | J1: https osoitteet täytyy tarkastaa
A5: Id | B5: Attribute name Finnish | C5: Definition Finnish | D5: Instructions Finnish | E5: Example Finnish | F5: Dependencies Finnish | G5: Codelist | H5: Attribute name English | I5: Definition English | J5: Instruction English | K5: Example English | L5: Dependencies English | M5: Elintarvike | N5: Alkoholi | O5: Animal Food | P5: Techno chemistry | Q5: Home Goods | R5: Changed | S5: Last update notification
A6: 0 | B6: Ala-alue | C6: Viineille annettava tieto maantieteellisestä alueesta, jossa viinin valmistuksessa käytetyt rypäleet on viljelty. | D6: Kirjoitetaan ala-alueen nimi | E6: Bordeaux | F6: Tieto voidaan antaa vähittäistuotteille, joiden GPC Brick -koodi on 10000588, 10003689, 10000275, 10000227, 10000159, 10000181, 10000273, 10000144, 10000263 tai 10000276. | H6: Alcoholic Beverage Subregion | I6: A legally defined geographical region where the grapes for a wine were grown also know as an appellation. | J6: The information can be given to retail products with GPC Brick code: 10000588, 10003689, 10000275, 10000227, 10000159, 10000181, 10000273, 10000144, 10000263 tai 10000276. | K6: Bordeaux | M6: - | N6: X | O6: - | P6: - | Q6: -
A7: 2 | B7: Kantavierteen aste | C7: Kantavierre kertoo käytännössä oluen mäskäyksessä vierteeseen liuenneiden (ja mahdollisesti erikseen lisättyjen) sokerien määrän. | H7: Degree Of Original Wort | I7: In practice, parent liquor refers to the amount of sugars dissolved (and possibly added separately) in the wort of beer. | M7: - | N7: X | O7: - | P7: - | Q7: -
A8: 3 | B8: Alkoholiprosentti | C8: Tuotteen sisältämä alkoholiprosentti. | D8: Tieto annetaan alkoholijuomille sekä tuotteille, jotka sisältävät alkoholia esim. liköörikonvehdit. Alkoholittomille juomille, esim. alkoholiton viini alkoholiprosentiksi annetaan 0%:a | E8: 3,5 | F8: Alkoholiprosentti on ilmoitettava tuotteille, joiden GPC Brick-koodi on 10000588, 10003689, 10000275, 10000227, 10000159, 10000181, 10000273, 10000144, 10000263 tai 10000276. | H8: Percentage Of Alcohol By Volume | I8: Percentage of alcohol contained in the base unit trade item. | J8: Information is provided for alcoholic beverages and products containing alcohol, such as liqueur sweets. The percentage of alcohol must be reported for products with GPC Brick code 10000588, 10003689, 10000275, 10000227, 10000159, 10000181, 10000273, 10000144, 10000263 tai 10000276. | K8: 3,5 | M8: X | N8: X | O8: - | P8: - | Q8: -
A9: 4 | B9: Viinin valmistaja | C9: Viinitarhan tai viinin valmistajan työntekijä, joka on vastuussa valmistettavan viinin valmisteluun, makuun ja laatuun liittyvistä prosesseista. Viinin valmistamista ja tutkimusta kutsutaan enologiaksi. Viinin valmistaja on enologi. | H9: Vintner | I9: The person responsible for the wine-making processes, the taste and the quality of the vineyard or winemaker. | M9: - | N9: X | O9: - | P9: - | Q9: -
A10: 20 | B10: Allergeeni | C10: Tuotteen sisältämät allergeenit | D10: Allergeenit valitaan koodilistalta. Tuotteelle on aina ilmoitettava mikäli se sisältää Elintarviketietoasetuksen (1169/2011) mukaisia allergeeneja. Lisäksi näihin pakollisiin allergeeneihin liittyen voidaan joutua ilmoittamaan tarkentavaa tietoa. Gluteenia sisältävien tuotteiden kohdalla valitaan aina, ylätaso AW Gluteenia sisältävät viljat – ja tuotteet, tämän lisäksi on aina annettava kyseinen vilja omana allergeeninaan. Kalatuotteille annetaan aina AF Kalat, lisäksi voidaan antaa tarkempi tieto kalasta allergeenina. | E10: NL -Lupiini | G10: AllergenTypeCodeList | H10: Allergen Type Code | I10: Allergens contained in the product. | J10: Allergens are selected from the code list. In the case of products containing gluten, cereals and products containing AW Gluten must always be selected, in addition to always providing that cereal as its own allergen. Fish products are always given AF Fish and products, and more detailed information on fish as an allergen can be given. The UI is required to provide some information for allergens under the Food Information Regulation for certain product groups. | M10: X | N10: X | O10: - | P10: X | Q10: -
A11: 21 | B11: Kontaminaatioaste | C11: Allergeenin kontaminaatioaste | D11: Kaikkien kontaminaatioasteiden antamisessa on otettava huomioon lainsäädännön määrittelyt, milloin kyseistä ilmaisua saa käyttää. Annetuille allergeeneille määritellään aina kontaminaatioaste. Vaihtoehdot: • Sisältää (tuote sisältää ko. ainesosaa) • Saattaa sisältää (tuote saattaa sisältää ko. ainesosaa) • Ei sisällä (Edellyttää että riskiarvio on tehty ja siitä on todiste) • Selvittämätön (tarkoittaa että tuotteelle ei ole tehty ristikontaminaatioanalyysiä, koska on arvioitu, että sellaista ei vaadita) Allergeeneista suositellaan ilmoitettavaksi vai positiiviset ilmaisut, Sisältää ja Saattaa sisältää. | F11: Tieto on annettava, mikäli Allergeeni on annettu. | G11: LevelOfContainmentCodeList | H11: Level of Containment Code Type | I11: Level of allergen contamination. | J11: The degree of contamination is always determined for the given allergens. options: • Contains • Free from • May contain All degrees of contamination must be given in accordance with the definitions of when this term may be used. | M11: X | N11: X | O11: - | P11: X | Q11: -
A12: 72 | B12: Pelaajien enimmäismäärä | C12: Kertoo pelin osallistujien enimmäismäärän. | E12: 5 | H12: Maximum Number Of Players | I12: Specifies the maximum number of players in the game. | J12: Numeric value for amount of players | K12: 5 | M12: - | N12: - | O12: - | P12: - | Q12: X
A13: 74 | B13: Pelaajien vähimmäismäärä | C13: Kertoo pelin osallistujien vähimmäismäärän. | E13: 2 | H13: Minimum Number Of Players | I13: Specifies the minimum number of players in the game. | J13: Numeric value for amount of players | K13: 2 | M13: - | N13: - | O13: - | P13: - | Q13: X
A14: 210 | B14: Paristot mukana pakkauksessa | C14: Kertoo, onko laitteen käyttöön tarvittavat paristot mukana pakkauksessa. Tieto on annettava kaikille paristokäyttöisille tuotteille. | E14: Ei | H14: Are Batteries Included | I14: Indicates if batteries are either included or not included with the trade item. | M14: - | N14: - | O14: - | P14: - | Q14: X
A15: 211 | B15: Paristokäyttöinen | C15: Kertoo, tarvitaanko laitteen käyttämiseen paristoja tai akkua. Tieto on annettava tuotteille, joiden käyttöön tyypillisesti tarvitaan paristoja tai akkuja. | D15: Esim. porakone tai pensasleikkuri voi olla sähkö- tai akkukäyttöinen | E15: Kyllä | H15: Are Batteries Required | I15: Indicates whether the device requires batteries. Information must be provided for products that typically require batteries. | J15: For example, a drill or hedge trimmer can be electric, or battery powered. | M15: - | N15: - | O15: - | P15: - | Q15: X
A16: 212 | B16: Sisäänrakennettu paristo | C16: Kertoo, onko tuotteessa kiinteästi sisäänrakennettu akku tai paristoja, joita ei voi vaihtaa tai poistaa. | E16: Kyllä | F16: Tieto on pakollinen, jos tuotteelle annetaan Pariston ominaisuudet -ryhmän tietoja. | G16: NonBinaryLogicEnumerationCodeList | H16: Are Batteries Built In | I16: This code is defined as an indicator whether or not any batteries included with the trade item are built into the trade item during manufacturing and cannot be changed or removed. | M16: - | N16: - | O16: - | P16: - | Q16: X
A17: 213 | B17: Paristossa käytetty teknologia | C17: Paristossa / akussa käytetty teknologia. | E17: Litium | G17: BatteryTechnologyTypeCodeList | H17: Battery Technology Type Code | I17: Technology used in the battery. | J17: The type of battery family (e.g. Lithium, NiMH) of batteries used by the product. | M17: - | N17: - | O17: - | P17: - | Q17: X
A18: 214 | B18: Pariston tyyppi | C18: Kertoo pariston / akun tyypin. | E18: AAA | G18: BatteryTypeCodeList | H18: Battery Type Code | I18: Indicates the type of battery. | M18: - | N18: - | O18: - | P18: - | Q18: X
A19: 215 | B19: Pariston paino | C19: Kertoo pariston / akun painon. | D19: Tuotteessa olevan pariston / akun paino. | E19: 15 grammaa | G19: MeasurementUnitCodeList | H19: Battery Weight | I19: The weight of each battery included with or built into the trade item. | J19: The weight of the battery is given to those products that have a battery built into the product. | M19: - | N19: - | O19: - | P19: - | Q19: X
A20: 218 | B20: Sisäänrakennettujen paristojen lukumäärä | C20: Valmistuksen yhteydessä laitteeseen sisäänrakennettujen paristojen / akkujen lukumäärä. | E20: 3 | H20: Quantity Of Batteries Built In | I20: The quantity of batteries built into the trade item during manufacturing. This includes batteries that can or cannot be changed or removed. | M20: - | N20: - | O20: - | P20: - | Q20: X
A21: 219 | B21: Paristojen määrä | C21: Kertoo, kuinka monta paristoa laitteen käyttöön tarvitaan. | E21: 2 | H21: Quantity Of Batteries Required | I21: The number of batteries required to operate the trade item. | M21: - | N21: - | O21: - | P21: - | Q21: X
A22: 243 | B22: Sertifioinnin myöntäjä | C22: Sertifiointistandardin tai muun vaatimuksen määrittävän organisaation nimi. | H22: Certification Agency | I22: Name of the organization that specifies the certification standard or other requirement. | M22: - | N22: X | O22: - | P22: - | Q22: -
A23: 245 | B23: Sertifikaatti | C23: Sertifiointistandardin nimi. | D23: Kertoo mistä sertifioinnista on kyse ja mitä tarkoittaa Sertifioinnin arvossa oleva tieto. | H23: Certification Standard | I23: Name of the certification standard. | M23: - | N23: X | O23: - | P23: - | Q23: -
A24: 246 | B24: Sertifioinnin arvo | C24: Tuotteen sertifioinnin arvo. | F24: Mikäli Sertifioinnin arvo (246) on annettu, on annettava myös Sertifioinnin myöntäjä (243) tai Sertifikaatti (245). | H24: Certification Value | I24: The value of the product certification standard. | J24: ID of the certification to be issued. | M24: X | N24: X | O24: - | P24: - | Q24: -
A25: 352 | B25: Säilytysohje | C25: Tuotteen säilyttämiseen liittyvät ohjeet. | D25: Kuluttajille tarkoitetut tuotteen säilytysohjeet. Tiedot löytyvät myös tuotteen pakkauksesta. | E25: Elintarvikkeilla elintarviketietoasetuksen (2 jakso, 25 artikla) mukaiset elintarvikkeiden säilytysolosuhteet. Säilytettävä lasten ulottumattomissa. | G25: LanguageCodeList | H25: Consumer Storage Instructions | I25: Instructions for storage of the product. | K25: For example: • For food stuff, the conditions of storage of food in accordance with the Food Information Regulation (Section 2, Article 25). • Keep out of reach of children. | M25: X | N25: X | O25: X | P25: X | Q25: X
A26: 356 | B26: Käyttöohje | C26: Tuotteen käyttöön liittyvät hoito- ja käyttöohjeet. | D26: Kuluttajille tarkoitetut käyttöohjeet. Tiedot löytyvät myös tuotteen pakkauksesta. Tuoteryhmäkohtaisesti käyttöohje voi sisältää esim. • Tekstiileillä hoito-ohjeen • Kodinkoneilla käyttöohjeen • Elintarvikkeilla elintarviketietoasetuksen (2 jakso, 25 artiklan) mukaiset elintarvikkeiden käyttöolosuhteet • Äidinmaidinkorvikkeilla pakkauksessa olevat käyttöohjeet • Pakolliset lisähuomautukset kun elintarvikkeesta esitetään terveysväitteitä. Esimerkiksi: o Maininta tasapainoisen ja monipuolisen ruokavalion ja terveiden elämäntapojen tärkeydestä o Kuinka paljon ja kuinka usein elintarviketta on nautittava väitetyn hyödyn saamiseksi o Asianmukainen varoitus niissä tuotteissa, joiden liiallisesta nauttimisesta todennäköisesti aiheutuu terveysriski o Huomautus henkilöille, joiden olisi vältettävä elintarvikkeen nauttimista annetaan tietokentässä Pakolliset lisähuomautukset kuluttajalle (id 1017) | G26: LanguageCodeList | H26: Consumer Usage Instructions | I26: Care and use instructions for using the product. | J26: Product-specific instructions. | K26: The product-specific instruction manual may include, for example: • Textile care instructions • Appliances manual • For food stuff, the conditions of storage of food in accordance with the Food Information Regulation (Section 2, Article 25). • Instructions for use included in the packaging for infant formulas • Mandatory additional notes when health claims are made on a food. For example: o Mention of the importance of a balanced and varied diet and a healthy lifestyle o How much and how often the food must be consumed in order to claim the claimed benefit o Appropriate warning on products that are likely to present a health risk if consumed excessively o Notice to persons who should avoid consuming the food is given in the Compulsory Additive Label Information (id 1017. | M26: X | N26: X | O26: X | P26: X | Q26: X
A27: 435 | B27: Maidon rasvapitoisuus prosentteina | C27: Maidon rasvapitoisuus | D27: Tuotteen sisältämän maidon rasvapitoisuus prosentteina Suurin mahdollinen arvo on 100.00 | F27: Tieto suositellaan annettavaksi kaikille maitotuotteille. | H27: Fat In Milk Content | I27: Milk fat content. | J27: The percentage of fat in the milk contained in the product. The maximum value is 100.00. Information is recommended for all dairy products. | M27: X | N27: - | O27: - | P27: - | Q27: -
A28: 436 | B28: Homogenoitu | C28: Onko tuotteessa käytetty maito homogenoitu | D28: Kertoo, onko tuotteessa käytetty maito aktiivisesti homogenisoitu vai ei. Maidon homogenointi on tekninen prosessi, jossa maidon rasva pilkotaan niin pieniksi osiksi, että se saadaan jakautumaan tasaisesti. | E28: Kyllä | F28: Tieto suositellaan annettavaksi kaikille maitotuotteille. | G28: NonBinaryLogicEnumerationCodeList | H28: Is Homogenised | I28: Indicates whether the milk used in the product is homogenised. | J28: Indicates whether the milk used in the product is actively homogenised or not. Homogenization of milk is a technical process in which the fat of the milk is broken down into small portions so that it can be distributed evenly. Information is recommended for all dairy products. | M28: X | N28: - | O28: - | P28: - | Q28: -
A29: 441 | B29: Kuiva-aineen rasvapitoisuus prosentteina | C29: Juuston tai juustovalmisteen kuiva-aineen rasvapitoisuusprosentti | D29: Suurin mahdollinen arvo on 100.00 | F29: Seuraaville Brick-koodeille tieto on annettava: 10000028, 10000029, 10000030 | H29: Fat Percentage In Dry Matter | I29: The percentage of fat in the dry matter of the cheese or cheese product. | J29: The maximum value is 100.00 The following Brick codes must be reported:10000028, 10000029, 10000030 | M29: X | N29: - | O29: - | P29: - | Q29: -
A30: 448 | B30: Liha- tai kalapitoisuuden tyyppi | C30: Kertoo minkä ainesosan pitoisuudesta on kyse. | D30: Suositellut arvot ovat lihapitoisuus, kalapitoisuus ja siipikarjapitoisuus. | E30: Siipikarjapitoisuus | G30: FI_FishMeatPoultryTypeCodeReference | H30: Fish Meat Poultry Type Code | I30: Define what the content of the ingredient is. | J30: The recommended values are meat content, fish content and poultry content. The interface has a selection list for values. | M30: X | N30: - | O30: - | P30: - | Q30: -
A31: 456 | B31: Liha- tai kalapitoisuus vähintään | C31: Ruoka- ja juomatuotteeseen sisältyvän kalan, lihan tai siipikarjan vähimmäismäärä. | D31: 448 Liha- ja kalapitoisuuden tyypissä määritellyn ainesosan vähimmäismäärä valmiissa tuotteessa. | E31: 35 | G31: MeasurementUnitCodeList | H31: Minimum Fish Meat Poultry Content | I31: Minimum amount of fish, meat or poultry contained in a food and drink. | J31: 448 Fish Meat Poultry Type Code Reference Code Reference the minimum quantity of the specified ingredient in the finished product. | M31: X | N31: - | O31: - | P31: - | Q31: -
A32: 472 | B32: Vaarallisen valmisteen kaasun tiheys | C32: Kaasun tiheyden ilmoittaminen | D32: Laskettaessa käytetään varastoidun kaasun määrää g/cm³. Mittayksikkönä käytetään 23 Grammaa kuutiosenttimetrillä [g/cm3] Tuotteeseen sisältyvän kaasun tiheys. Tuotetiedon vastaanottaja voi käyttää tätä tietoa määrittääkseen varastotilaan varastoitujen kaasujen kokonaismäärät vaarallisia aineita koskevien säädösten mukaisiksi. Käytä soveltuvaa mittaustapaa. Esimerkiksi Euroopassa: Mittayksikkönä käytetään 23 Grammaa kuutiosenttimetrillä [g/cm3] | G32: MeasurementUnitCodeList | H32: Dangerous Substance Gas Density | I32: Indication of gas density. | J32: The volume of gas stored shall be g / cm³. Used code value is ”23” grams per cubic centimetre [g / cm3]. | M32: - | N32: - | O32: - | P32: X | Q32: -
A33: 478 | B33: Vaarallisen ainesosan nimi | C33: Tuotteen luokituksen vaaralliseksi valmisteeksi aiheuttaneen aineen nimi. | D33: Vaarallisen ainesosan, esim. painepakatun kaasun nimi. | H33: Dangerous Substance Name | I33: The name of the hazardous ingredient, e.g. compressed gas. | J33: The name of the substance which gave rise to the classification of the product as dangerous preparation. | M33: - | N33: - | O33: - | P33: X | Q33: -
A34: 479 | B34: Aineen olomuoto | C34: Kertoo tuotteen olomuodon | E34: Neste | G34: PhaseOfMatterCodeList | H34: Phase Of Matter Code | I34: Indication of product state. | J34: In the code list, select the value that corresponds to the state of the product, such as Liquid or Gaseous. | M34: - | N34: - | O34: - | P34: X | Q34: -
A35: 480 | B35: Vaarallisen valmisteen vesiliukoisuus | C35: Vaaralliseksi määritellyn aineen liukeneminen tai sekoittuminen veteen. | D35: Kertoo vaarallisen aineen liukoisuuden ja sekoittuvuuden veteen. Liukoisuus on kyseessä olevan aineen taipumus liueta liuottimessa. Sekoittuvuudella tarkoitetaan nesteiden yhdistymistä niin, että ne muodostavat homogeenisen liuoksen. | E35: Vesiliukoinen | G35: DangerousSubstancesWaterSolubilityCodeList | H35: Dangerous Substances Water Solubility Code | I35: Solubility or mixing of a substance defined as hazardous with water. | J35: The value to be entered is selected from the Code list. For example, Water Soluble or Emulsifying. | M35: - | N35: - | O35: - | P35: X | Q35: -
A36: 481 | B36: Palavan aineen maksimimäärä prosentteina | C36: Tuotteen sisällöstä riippuva palavan kaasun maksimiimäärä prosentteina. | D36: Suurin mahdollinen arvo on 100.00. Tieto on annettava mikäli 478 Vaarallisen ainesosan nimi on annettu. Tuotteeseen sisältyvän palavan aineen enimmäisprosentti. Tuotetietojen vastaanottaja voi käyttää tätä tietoa vaarallisten aineiden määräysten mukaisten, varastoitujen aineiden kokonaismäärien määrittämisen apuna. | E36: 75 | F36: Tieto on annettava mikäli 478 Vaarallisen ainesosan nimi on annettu. | H36: Flammable Substance Maximum Percent | I36: Maximum percentage of flammable gas depending on product content. | J36: The maximum value is 100.00. Information must be provided if 478 ”Dangerous Substance Name” is given. | L36: Information must be provided if 478 ”Dangerous Substance Name” is given. | M36: - | N36: - | O36: - | P36: X | Q36: -
A37: 482 | B37: Palavan aineen minimimäärä prosentteina | C37: Tuotteen sisällöstä riippuva palavan kaasun minimimimäärä prosentteina. | D37: Tuotteeseen sisältyvän palavan aineen vähimmäisprosentti. Tuotetietojen vastaanottaja voi käyttää tätä tietoa vaarallisten aineiden määräysten mukaisten, varastoitujen aineiden kokonaismäärien määrittämisen apuna. Suurin mahdollinen arvo on 100.00. | E37: 35 | H37: Flammable Substance Minimum Percent | I37: Minimum percentage of flammable gas depending on product content. | J37: The maximum value is 100.00. Information must be provided if 478 ”Dangerous Substance Name” is given. | L37: Information must be provided if 478 ”Dangerous Substance Name” is given. | M37: - | N37: - | O37: - | P37: X | Q37: -
A38: 483 | B38: Vaarallinen valmiste | C38: Onko tuote luokiteltu ja merkitty vaaralliseksi valmisteeksi | D38: Tuote on luokiteltu vaaralliseksi valmisteeksi CLP-asetuksen mukaisesti ja sillä on tämän asetuksen mukaisia tietoja. Tuotteella on annettuna käyttöturvallisuustiedote. | G38: NonBinaryLogicEnumerationCodeList | H38: Is Dangerous Substance | I38: Whether the product is classified and labelled as a dangerous item. | J38: The product is classified as dangerous according to CLP and contains information that is relevant to this regulation. The product is provided with a safety data sheet. | M38: X | N38: X | O38: X | P38: X | Q38: X
A39: 484 | B39: Onko vaarallinen valmiste sekoite | C39: Onko tuote useiden eri aineiden seos. | D39: Tuote koostuu useammasta eri aineesta, jotka kaikki ovat CLP-asetuksen mukaisesti määriteltävissä vaaralliseksi valmisteeksi. | G39: NonBinaryLogicEnumerationCodeList | H39: Is Dangerous Substance A Mixture | I39: Is the product a mixture of several different substances. | J39: The product consists of several substances, all of which can be defined as dangerous preparations under CLP. | M39: - | N39: - | O39: - | P39: X | Q39: -
A40: 531 | B40: VAK lipuke | C40: Varoituslipukkeen numero | D40: Merkintä, joka osoittaa erityisriskin ja siten vaadittavat vaaralliseen tuotteeseen liittyvät varotoimet. Kertoo ADR: n luvun 3.2 taulukon A mukaisen vaarallisen merkinnän numeron. Kertoo Vaarallisten aineiden kuljetus tiellä –lainsäädännön mukaisen tiedon kolleihin kiinnitettävästä varoituslipukkeesta | E40: 6.2, 7A. | G40: DangerousHazardousLabelNumberCodeList | H40: Dangerous Hazardous Label Number | I40: A visible number indicating the specific risk. | J40: A visible number indicating the specific risk and thus the required precautions associated with a dangerous or hazardous good for example, the indication of the hazardous label number according to chapter 3.2, table A of the ADR. | M40: X | N40: X | O40: - | P40: X | Q40: -
A41: 532 | B41: VAK lipukkeen järjestysnumero | C41: Varoituslipukkeen järjestysnumero | D41: Kertoo Vaarallisten aineiden kuljetus tiellä –lainsäädännön mukaisen varoituslipukkeen järjestysnumeron. Ensimmäinen annettu VAK Lipuke saa arvon 1, toinen 2 ja kolmas 3. | F41: Ainoastaan kolme VAK Lipuketta voidaan antaa. Tieto on annettava, mikäli 531 VAK Lipuke on annettu. | H41: Dangerous Hazardous Label Sequence Number | I41: A sequence number indicating the primacy of one dangerous/hazardous label number over another. For example, a value of 1 would indicate that the associated hazard label number is the primary, 2 = secondary, etc. | J41: Only three labels may be issued. Information must be provided if a 531 Dangerous Hazardous Label Number is given. | L41: Information must be provided if a 531 Dangerous Hazardous Label Number is given. | M41: X | N41: X | O41: - | P41: X | Q41: -
A42: 560 | B42: Saatavuus päättyy | C42: Kertoo, milloin tuotteen saatavuus päättyy. Päivämäärä, josta alkaen tuotetta ei ole enää saatavilla tiedontoimittajalta. Sisältää myös kausittaiset tai tilapäiset tuotteet ja palvelut. | D42: Saatavuus päättyy –tieto kertoo milloin toimittaja lopettaa tuotteen toimituksen vastaanottajille. Tämän päivän jälkeen tuotetta voi olla edelleen markkinoilla. Tieto tuotteen toimitusten päättymisestä on ilmoitettava tuotetiedon vastaanottajille etukäteen. Tuotetiedon vastaanottajat määrittelevät omat aikarajansa mihin mennessä heille pitää ilmoittaa tuotteiden toimitusten päättymisestä. | F42: Yhdessä 3253 Tuotannon lopetus päivämäärä –tiedon kanssa tämä tieto kertoo vastaanottajille, että tuotteen toimitukset tulevat loppumaan. | H42: End Availability Date Time | I42: Define when the product will no longer be available. | J42: Together with 3253 Discontinued Date Time, this information informs recipients that the product will be out of stock. End Availability Date Time indicates when a supplier will stop shipping a product to recipients. After the date, the product may still be on the market. The recipient of the product information must be notified in advance of the delivery of the product. Recipients of product information will set their own time limit by which they must be notified of the end of product deliveries. | L42: Together with 3253 Discontinued Date Time, this information informs recipients that the product will be out of stock. | M42: X | N42: X | O42: X | P42: X | Q42: X
A43: 584 | B43: Saatavuus alkaa | C43: Päivä, jolloin tuotteen saatavuus alkaa. | D43: Saatavuudella tarkoitetaan, että toimittaja pystyy ottamaan tilauksia ja toimittamaan tuotetta niiden mukaan. Päivämäärä (CCYY-MM-DDTHH:MM:SS), josta alkaen tuote on saatavilla toimittajalta, sisältäen kausi- ja tilapäistuotteet sekä -palvelut. | H43: Start Availability Date Time | I43: The date that the product will begin to be available. | J43: Availability means that the supplier is able to take orders and deliver the product accordingly. | M43: X | N43: X | O43: X | P43: X | Q43: X
...

Sheet Removed attributes
A1: Finland FMCG Data profile | E1: Back to the Attributes | F1: Back to the Definitions and instructions
A2: Removed attributes
A4: ID | B4: Module | C4: GDSN Name | D4: Attribute name English | E4: Attribute name Finnish | F4: Format | G4: Codelist | H4: Lenght | I4: Applicability | J4: Applicable Level | K4: Consumer Unit Information | L4: Cardinality | M4: Xpath | N4: FI Repeatability on Attribute level | O4: Repeatability on Attribute group(s) level | P4: Groups | Q4: Globality Status | R4: Validation rules | S4: Dependencies | T4: Include GPC | U4: Exclude GPC | V4: Cosmetic information | W4: Packaging Unit information | Y4: BMS Id | Z4: GDM Near Food | AA4: GDM Tobacco | AB4: GDM Alcohol | AC4: Attribute name Swedish | AD4: Started | AE4: Removed
A5: 1201 | B5: NonGTINLogisticsUnitInformationModule | C5: GrossWeight | D5: Gross Weight | E5: GTIN-koodittoman lavan bruttopaino | F5: numeric | I5: CM CM - | J5: NonPallet | L5: 0..1 | M5: nonGTINLogisticsUnitInformationModule/nonGTINLogisticsUnitInformation/grossWeight | N5: No | Q5: TargetMarketDependent | R5: GE_Required,400.153,400.167,G1651,G541 | V5: no | Y5: Global | AC5: Non-GTIN Logistics Unit bruttovikt | AD5: 3.1.x | AE5: 3.1.19
A6: 1204 | B6: NonGTINLogisticsUnitInformationModule | C6: LogisticsUnitStackingFactor | D6: Logistics Unit Stacking Factor | E6: GTIN-koodittoman lavan pinottavuus | F6: numeric | I6: CM CM - | J6: NonPallet | L6: 0..1 | M6: nonGTINLogisticsUnitInformationModule/nonGTINLogisticsUnitInformation/logisticsUnitStackingFactor | N6: No | Q6: TargetMarketDependent | R6: G480,400.149,400.150,G1651 | V6: no | Y6: Global | AC6: Non-GTIN Logistics Unit Staplingsfaktor | AD6: 3.1.x | AE6: 3.1.19
A7: 1192 | B7: NonGTINLogisticsUnitInformationModule | C7: Depth | D7: Depth | E7: GTIN-koodittoman lavan syvyys | F7: numeric | I7: CM CM - | J7: NonPallet | L7: yes | N7: 1664 | O7: Global | T7: 3.1.x | AE7: 3.1.19
A8: 1195 | B8: NonGTINLogisticsUnitInformationModule | C8: Height | D8: Height | E8: GTIN-koodittoman lavan korkeus | F8: numeric | I8: CM CM - | J8: NonPallet | L8: no | N8: 1668 | O8: Global | T8: 3.1.x | AE8: 3.1.19
A9: 1198 | B9: NonGTINLogisticsUnitInformationModule | C9: Width | D9: Width | E9: GTIN-koodittoman lavan leveys | F9: numeric | I9: CM CM - | J9: NonPallet | L9: no | N9: 1671 | O9: Global | T9: 3.1.x | AE9: 3.1.19
A10: 3434 | B10: TradeItemHierarchyModule | C10: QuantityOfLayersPerPallet | D10: Quantity Of Layers Per Pallet | E10: Kerrosten lukumäärä lavalla (GTIN-kooditon lava) | F10: numeric | I10: CM CM - | J10: NonPallet | L10: 0..1 | M10: tradeItemHierarchyModule/tradeItemHierarchy/quantityOfLayersPerPallet | N10: No | Q10: TargetMarketDependent | R10: G481,G530,G576,G1650,400.124,200.027,400.162,400.163 | V10: no | Y10: 1666 | AC10: Antal lager per pallet (GTIN kodlös plattform) | AD10: 3.1.x | AE10: 3.1.19
A11: 3437 | B11: TradeItemHierarchyModule | C11: QuantityOfTradeItemsPerPallet | D11: Quantity Of Trade Items Per Pallet | E11: Kuljetuspakkausten lukumäärä lavalla (GTIN-kooditon lava) | F11: numeric | I11: CM CM - | J11: NonPallet | L11: no | N11: 3619 | O11: Global | T11: 3.1.x | Y11: 1670 | AE11: 3.1.19
A12: 3281 | B12: TradeItemDataCarrierAndIdentificationModule | C12: DataCarrierPresenceCode | D12: Data Carrier Presence Code | E12: Tiedonkantajan esiintymistiheys | F12: codelist | I12: O O O | J12: All | K12: DataCarrier | L12: no | N12: 3479 | O12: Local | T12: 3.1.x | AE12: 3.1.19
A13: 976 | B13: FoodAndBeveragePropertiesInformationModule | C13: PhysiochemicalCharacteristicCode | D13: Physiochemical Characteristic Code | E13: Fysiokemiallinen ominaisuus | F13: codelist | G13: PhysiochemicalCharacteristicCodeList | I13: O - - | J13: BaseUnit | K13: X | L13: 0..1 | M13: foodAndBeveragePropertiesInformationModule/physiochemicalCharacteristic/physiochemicalCharacteristicCode | N13: No | O13: Yes | P13: PhysiochemicalCharacteristic | Q13: TargetMarketDependent | R13: GE_Length,G541 | V13: no | Y13: 1414 | Z13: Local | AC13: Fysiokemisk karaktäristisk kod | AE13: 3.1.21
A14: 977 | B14: FoodAndBeveragePropertiesInformationModule | C14: PhysiochemicalCharacteristicValue | D14: Physiochemical Characteristic Value | E14: Fysiokemiallisen ominaisuuden arvo | F14: numeric | G14: MeasurementUnitCodeList | I14: O - - | J14: BaseUnit | K14: X | L14: 0..* | M14: foodAndBeveragePropertiesInformationModule/physiochemicalCharacteristic/physiochemicalCharacteristicValue | N14: Yes | O14: Yes | P14: PhysiochemicalCharacteristic | Q14: TargetMarketDependent | R14: GE_Required,G541,G1212 | V14: no | Y14: 1415 | Z14: Local | AC14: Fysiokemiskt karaktäristiskt värde | AE14: 3.1.21
A15: 1021 | B15: HealthRelatedInformationModule | C15: DoesTradeItemCompositionIncludeLatex | D15: Does Trade Item Composition Include Latex? | E15: Sisältääkö tuote lateksia | F15: codelist | G15: NonBinaryLogicEnumerationCodeList | I15: O - - | J15: BaseUnit | K15: X | L15: 0..1 | M15: healthRelatedInformationModule/healthRelatedInformation/doesTradeItemCompositionIncludeLatex | N15: No | Q15: TargetMarketDependent | R15: G541 | V15: yes | Y15: 1459 | Z15: - | AC15: Inkluderar handelsvarosammansättning latex | AD15: 3.1.x | AE15: 3.1.21
A16: 1023 | B16: HealthRelatedInformationModule | C16: HealthClaimDescription | D16: Health Claim Description | E16: Terveysväittämä | F16: Description | G16: LanguageCodeList | H16: 1000 | I16: O - - | J16: BaseUnit | K16: X | L16: 0..* | M16: healthRelatedInformationModule/healthRelatedInformation/healthClaimDescription | N16: Yes | Q16: TargetMarketDependent | R16: GE_Length,GE_Required,G1432,G541, 400.256, 400.257, 400.258 | V16: no | Y16: 1461 | AC16: Beskrivning av hälsopåståenden | AE16: 3.1.23
A17: 1733 | B17: PackagingInformationModule | C17: IsPackagingMaterialRecoverable | D17: Is Packaging Material Recoverable | E17: Onko pakkausmateriaali kierrätettävä | F17: codelist | G17: NonBinaryLogicEnumerationCodeList | I17: O O O | J17: All | L17: 0..1 | M17: packagingInformationModule/packaging/packagingMaterial/isPackagingMaterialRecoverable | N17: No | O17: Yes | P17: Packaging/PackagingMaterial | Q17: TargetMarketDependent | R17: G541 | V17: yes | W17: yes | Y17: 2207 | AC17: Kan förpackningsmaterial återvinnas | AD17: 3.1.x | AE17: 3.1.23
A18: 3293 | B18: TradeItemDescriptionModule | C18: AdditionalTradeItemDescription | D18: Additional Trade Item Description | E18: Tuotetta kuvaavat lisätiedot | F18: Description | G18: LanguageCodeList | H18: 500 | I18: O O O | J18: All | L18: 0..* | M18: tradeItemDescriptionModule/tradeItemDescriptionInformation/additionalTradeItemDescription | N18: Yes | Q18: TradingPartnerDependent | R18: GE_Length,GE_Required,G541,G1180 | V18: yes | Y18: 3504 | Z18: Global | AC18: Ytterligare beskrivning av handelsvaror | AE18: 3.1.24
A19: 4662 | B19: PackagingInformationModule | C19: packagingLabellingTypeCode | D19: Packaging Labelling Type Code | E19: Pakkauksen etiketti | F19: codelist | G19: PackagingLabellingTypeCode | I19: O O - | J19: NonPallet | K19: X | L19: 0..* | M19: packagingInformationModule/packaging/packagingMaterial/packagingLabellingTypeCode | N19: Yes | Q19: TargetMarketDependent | V19: no | Y19: 6304 | Z19: Local | AC19: Typ av etikett eller tryck på förpackningen, kod | AE19: 3.1.24
A20: 4663 | B20: PackagingInformationModule | C20: packagingLabellingCoveragePercentage | D20: Packaging Labelling Coverage Percentage | E20: Etiketin peittävyysprosentti | F20: decimal | I20: O O - | J20: NonPallet | K20: X | L20: 0..* | M20: packagingInformationModule/packaging/packagingMaterial/packagingLabellingCoveragePercentage | N20: Yes | Q20: TargetMarketDependent | V20: no | Y20: 6303 | Z20: Local | AC20: Förpackningens täckta yta i procent | AE20: 3.1.24
